BEGIN:VCALENDAR
PRODID:-//AT Content Types//AT Event//EN
VERSION:2.0
METHOD:PUBLISH
BEGIN:VEVENT
DTSTAMP:20260423T012556Z
CREATED:20110406T141754Z
UID:ATEvent-7532fa403742708d2cd124edf3f3ad44
LAST-MODIFIED:20110406T141754Z
SUMMARY:Kial ni ekzameniĝu?
DTSTART:20110411T170000Z
DTEND:20110411T190000Z
DESCRIPTION:Kial vi ekzameniĝu\, eĉ se vi pensas\, ke vi mem ne bezo
 nas diplomon pri\nviaj Esperanto-konoj? Al tiu ĉi kaj multaj aliaj de
 mandoj donas respondon\nla filmeto\, farita de Cyrille Hurstel.
LOCATION:Tomgårdsvej 35\, 2400 København NV
CATEGORIES:KEK arangxo.
CONTACT:Betty Chatterjee\, +45 38 89 10 13\, chatterjeebetty@hotmail.com
URL:www.esperanto.dk
CLASS:PUBLIC
END:VEVENT
END:VCALENDAR
