BEGIN:VCALENDAR
PRODID:-//AT Content Types//AT Event//EN
VERSION:1.0
BEGIN:VEVENT
DTSTART:20100621T183000Z
DTEND:20100621T210000Z
DCREATED:20100602T154222Z
UID:ATEvent-47ba29be05d45cc35f5c3365e598f165
SEQUENCE:0
LAST-MODIFIED:20100602T154222Z
SUMMARY:KEK somerfestos
DESCRIPTION:Ni somerfestos okaze de la lasta kunveno antaŭ la somera 
 paŭzo.
LOCATION:Tomsgårdsvej 35\, 2400 København.NV
PRIORITY:3
TRANSP:0
END:VEVENT
END:VCALENDAR
