BEGIN:VCALENDAR
PRODID:-//AT Content Types//AT Event//EN
VERSION:2.0
METHOD:PUBLISH
BEGIN:VEVENT
DTSTAMP:20260423T025903Z
CREATED:20090811T073631Z
UID:ATEvent-df30d0165d14b74d77fb43222435b50c
LAST-MODIFIED:20090811T073632Z
SUMMARY:KEK kunveno pri UK 2009 kaj UK 2011.
DTSTART:20090817T193000Z
DTEND:20090817T210000Z
DESCRIPTION:Pri la 94-a Universala Kongreso en Bjalistoko kaj la 96-a 
 Universala Kongreso en Kopenhago.
LOCATION:Kulturhuset\, Dortheavej 61\, 2400 Kopenhago N.V.
CATEGORIES:KEK arangxo.
CONTACT:Betty Chatterjee\, +45 38 89 10 13\, chatterjeebetty@hotmail.com
CLASS:PUBLIC
END:VEVENT
END:VCALENDAR
