BEGIN:VCALENDAR
PRODID:-//AT Content Types//AT Event//EN
VERSION:1.0
BEGIN:VEVENT
DTSTART:20081215T190000Z
DTEND:20081215T210000Z
DCREATED:20081214T185142Z
UID:ATEvent-5e0eb95315112022a0a8d9a0c89394ee
SEQUENCE:0
LAST-MODIFIED:20081215T074908Z
SUMMARY:Librotago
DESCRIPTION:Libroprezento
LOCATION:Dortheavej 61\, kulturdomo NV
PRIORITY:3
TRANSP:0
END:VEVENT
END:VCALENDAR
