BEGIN:VCALENDAR
PRODID:-//AT Content Types//AT Event//EN
VERSION:1.0
BEGIN:VEVENT
DTSTART:20100510T190000Z
DTEND:20100510T210000Z
DCREATED:20100506T082932Z
UID:ATEvent-1f12ace89cdb20fa4b430d00ab505c4e
SEQUENCE:0
LAST-MODIFIED:20100506T082932Z
SUMMARY:KEK-a Ekskurso
DESCRIPTION:Ni vagrados en la havkvartelo kaj la Citadelo de Kopenhago
 .
LOCATION:Ni renkontiĝos ĉe la kiosko en la stacidomo de Østerport
PRIORITY:3
TRANSP:0
END:VEVENT
END:VCALENDAR
