BEGIN:VCALENDAR
PRODID:-//AT Content Types//AT Event//EN
VERSION:2.0
METHOD:PUBLISH
BEGIN:VEVENT
DTSTAMP:20260423T060442Z
CREATED:20080703T100754Z
UID:ATEvent-9083eaf4880d64570de4bf9e50d43ed0
LAST-MODIFIED:20080705T071357Z
SUMMARY:Kultur-festivala stafeto (også dansk!)
DTSTART:20080712T120000Z
DTEND:20080712T235500Z
DESCRIPTION:kefeto stafeto en Kopenhago 2008-07-12
LOCATION:København V
CLASS:PUBLIC
END:VEVENT
END:VCALENDAR
