BEGIN:VCALENDAR
PRODID:-//AT Content Types//AT Event//EN
VERSION:1.0
BEGIN:VEVENT
DTSTART:20110119T173000Z
DTEND:20110119T200000Z
DCREATED:20110116T121915Z
UID:ATEvent-2cee95a36feeac844f12c4301c02a3fa
SEQUENCE:0
LAST-MODIFIED:20110116T122354Z
SUMMARY:KATALIN KOVÁTS\, ESPERANTISTO DE LA JARO VIZITOS MALMÖ!
DESCRIPTION:BONVENON AL GRAVA PRELEGO EN KLUBO ESPERANTISTA DE MALMÖ 
 MERKREDE LA 19-AN DE JANUARO JE LA 18.30 HORO!!\n\nKATALIN KOVÁTS\, E
 SPERANTISTO DE LA JARO VIZITOS MALMÖN!\n\nNepre profitu la okazon ren
 kontiĝi kun tre kompetenta esperantisto.\nJen Katalin prezentas sin k
 aj la vesperon\:\n\nKatalin Kováts (hungarino\, loĝanta en Nederland
 o)\, rekonata Esperanto-pedagogo\, por siaj epslorlaboroj pri Tiberio 
 Morariu kaj la Cseh-instruistoj\, agantaj en Skandinavio en la 30-aj k
 aj 40-aj jaroj\, vizitos Malmo meze de januaro. Kvankam la trastudado 
 de la jarkolektoj de la revuo 'La Espero' plenigos ŝian disponeblan t
 empon\, ŝi volonte renkontos ankaŭ la lokajn esperantistojn.\nEluzan
 te la eblon konatiĝi kun la redaktoro de la plej moderna porinstruist
 a retejo kaj respondeculo de la novtipaj UEA-ITK-ekzamenoj\, ni invita
 s vin al ŝia prelego\, titolita 'Esperanto-instruado kaj ekzamenoj ia
 m kaj nun". Kadre de la programo vi povos ekkoni la strukturon kaj fun
 kciojn de www.edukado.net kaj la sekretojn de ties grandioza rekonstru
 o. Katalin rakontos ankaŭ pri tio kiel Esperanto sukcesis eniri la Ko
 nsilion de Eŭropo en Strasburgo kaj malkaŝos ankaŭ detalojn kaj spe
 cimenojn pri la KER-ekzamenoj. Esperante bonetosan kaj klerigan vesper
 an programon ni atendas vin.\n\nKORAN BONVENON!\nSten Svenonius\nPrezi
 danto de KEM
LOCATION:Klubo Esperantista de Malmö
PRIORITY:3
TRANSP:0
END:VEVENT
END:VCALENDAR
