BEGIN:VCALENDAR
PRODID:-//AT Content Types//AT Event//EN
VERSION:1.0
BEGIN:VEVENT
DTSTART:20090425T000000Z
DTEND:20090426T150000Z
DCREATED:20090318T125204Z
UID:ATEvent-bd7dc17e70b854a302bf89594fa67ba6
SEQUENCE:0
LAST-MODIFIED:20090318T125204Z
SUMMARY:Jarkunveno de DEA 2009
DESCRIPTION:Jarkunveno de Dana Esperanto-Asocio / DEA
LOCATION:Tomsgårdsvej 35\, 2400 Kopenhago N.V.
PRIORITY:3
TRANSP:0
END:VEVENT
END:VCALENDAR
