BEGIN:VCALENDAR
PRODID:-//AT Content Types//AT Event//EN
VERSION:1.0
BEGIN:VEVENT
DTSTART:20100713T000000Z
DTEND:20100721T000000Z
DCREATED:20100402T124350Z
UID:ATEvent-e5cf0cdf8d80f15e07cbab247d7f53e8
SEQUENCE:0
LAST-MODIFIED:20100402T124350Z
SUMMARY:Internationell kurs 13 21 juli 2010 på Esperanto-Gården i Lesjöfors
DESCRIPTION:En kurs för dig som\: - ser jordens språkliga och kultur
 ella mångfald som en tillgång för mänskligheten - vill att natione
 lla särarter får bestå och utvecklas i fredlig samexistens - vill s
 kaffa dig en direktkontakt till människor i andra länder - kan skaff
 a dig ett verktyg för fredlig samlevnad på lika villkor
LOCATION:Lesjöfors
PRIORITY:3
TRANSP:0
END:VEVENT
END:VCALENDAR
