BEGIN:VCALENDAR
PRODID:-//AT Content Types//AT Event//EN
VERSION:2.0
METHOD:PUBLISH
BEGIN:VEVENT
DTSTAMP:20260423T030301Z
CREATED:20110218T053907Z
UID:ATEvent-6bd43396e4942dd1676dd632c4478e51
LAST-MODIFIED:20110218T053907Z
SUMMARY:Internacia amikeco kaj niaj gepatraj lingvoj\: konversacia vespero.
DTSTART:20110221T180000Z
DTEND:20110221T200000Z
DESCRIPTION:Okaze de la kluba kunveno la 21-an de februaro ni pensos p
 ri du gravaj jardatrevenoj\: la 41-a semajno de internacia amikeco kaj
  la tago de la gepatra lingvo la 21-an de februaro.
LOCATION:Tomsgårdsvej 35\, 2400 København NV.
CATEGORIES:KEK arangxo.
CONTACT:Betty Chatterjee\, 4538891013\, chatterjeebetty@hotmail.com
URL:www.esperanto.dk
CLASS:PUBLIC
END:VEVENT
END:VCALENDAR
