BEGIN:VCALENDAR
PRODID:-//AT Content Types//AT Event//EN
VERSION:1.0
BEGIN:VEVENT
DTSTART:20101206T190000Z
DTEND:20101206T210000Z
DCREATED:20101130T113057Z
UID:ATEvent-294223160dc299e8fc7b50810a420eb8
SEQUENCE:0
LAST-MODIFIED:20101130T113058Z
SUMMARY:Intergeneracia Kunlaboro
DESCRIPTION:Debatvespero pri la temo intergeneracia kunlaboro.
LOCATION:Tomgårdsvej 35\, 2400 Kopenhago NV
PRIORITY:3
TRANSP:0
END:VEVENT
END:VCALENDAR
