BEGIN:VCALENDAR
PRODID:-//AT Content Types//AT Event//EN
VERSION:2.0
METHOD:PUBLISH
BEGIN:VEVENT
DTSTAMP:20260423T013018Z
CREATED:20101124T073458Z
UID:ATEvent-c2bbd37625e898569a2c305283bb78e6
LAST-MODIFIED:20101124T073458Z
SUMMARY:Informvespero pri eventoj en aliaj anguloj de Esperantujo.
DTSTART:20101129T190000Z
DTEND:20101129T210000Z
DESCRIPTION:Venontjare okazos ne nur interesegaj eventoj en Kopenhago\
 :
LOCATION:Tomgårdsvej 35\, 2400 Kopenhago NV
CATEGORIES:KEK arangxo.
CONTACT:Betty Chatterjee\, +45 38891013\, chatterjeebetty@hotmail.com
URL:www.esperanto.dk
CLASS:PUBLIC
END:VEVENT
END:VCALENDAR
