BEGIN:VCALENDAR
PRODID:-//AT Content Types//AT Event//EN
VERSION:1.0
BEGIN:VEVENT
DTSTART:20081117T193000Z
DTEND:20081117T210000Z
DCREATED:20081115T132943Z
UID:ATEvent-8a18ef3528f811ee21972f070ff99fd7
SEQUENCE:0
LAST-MODIFIED:20081117T085719Z
SUMMARY:I.A. pri la U-kongreso en Bialistoko 2009
DESCRIPTION:Ni pripensu pri la venontjara kongreso en Bialistoko.
LOCATION:kulturo-domo\, Dortheavej 61\, 2400 Kopenhaga NV
PRIORITY:3
TRANSP:0
END:VEVENT
END:VCALENDAR
