BEGIN:VCALENDAR
PRODID:-//AT Content Types//AT Event//EN
VERSION:2.0
METHOD:PUBLISH
BEGIN:VEVENT
DTSTAMP:20260422T235156Z
CREATED:20090927T193217Z
UID:ATEvent-813cb1fa694b47bb7df0f00623b78f1b
LAST-MODIFIED:20090927T193217Z
SUMMARY:Gratis undervisning for 13 til 18 årige på Amager
DTSTART:20090928T144500Z
DTEND:20091214T161500Z
DESCRIPTION:Undervisningen starter mandag d. 28 september kl. 14\:45. 
 og fortsætter frem til jul.
LOCATION:Jemtelandsgade 3
URL:http://www.facebook.com/inbox/?ref=mb#/group.php? gid=137314027831&ref=ts
CLASS:PUBLIC
END:VEVENT
END:VCALENDAR
