BEGIN:VCALENDAR
PRODID:-//AT Content Types//AT Event//EN
VERSION:1.0
BEGIN:VEVENT
DTSTART:20090920T150000Z
DTEND:20090920T180000Z
DCREATED:20090915T202515Z
UID:ATEvent-86c92bb105ef55670c3c254bc7e8bd1c
SEQUENCE:0
LAST-MODIFIED:20090915T202515Z
SUMMARY:Futbalo/Fodbold
DESCRIPTION:Fubalo por ĉiuj / Fodbold for alle
LOCATION:Nørrebro parken
PRIORITY:3
TRANSP:0
END:VEVENT
END:VCALENDAR
