BEGIN:VCALENDAR
PRODID:-//AT Content Types//AT Event//EN
VERSION:1.0
BEGIN:VEVENT
DTSTART:20100726T000000Z
DTEND:20100730T000000Z
DCREATED:20100327T123710Z
UID:ATEvent-e135490692f3fe309ebab21865f94b77
SEQUENCE:0
LAST-MODIFIED:20100327T123710Z
SUMMARY:Esperanto-kursoj
DESCRIPTION:Tri-nivelaj kursoj de Esperanto en la Popola Altlernejo Br
 aheskolan sur la insulo Visingsö en la lago Vättern.
LOCATION:Visingsö
PRIORITY:3
TRANSP:0
END:VEVENT
END:VCALENDAR
