BEGIN:VCALENDAR
PRODID:-//AT Content Types//AT Event//EN
VERSION:1.0
BEGIN:VEVENT
DTSTART:20100927T190000Z
DTEND:20100927T210000Z
DCREATED:20100921T042511Z
UID:ATEvent-d76eb9a3eb436c6ab1cc195c733ec4ec
SEQUENCE:0
LAST-MODIFIED:20100921T042511Z
SUMMARY:Enketo\: kia esperantisto VI estas?
DESCRIPTION:’Verda stelo sur la brusto?’\nĈu vi konas la poemon d
 e Julio Baghy? http\://donh.best.vwh.net/Esperanto/Literaturo/Poezio/v
 agabondo/59.html
LOCATION:Tomgårdsvej 35\, 2400 Kopenhago NV
PRIORITY:3
TRANSP:0
END:VEVENT
END:VCALENDAR
