BEGIN:VCALENDAR
PRODID:-//AT Content Types//AT Event//EN
VERSION:1.0
BEGIN:VEVENT
DTSTART:20080825T190000Z
DTEND:20080825T210000Z
DCREATED:20080822T114633Z
UID:ATEvent-79464165f6bd1fd3527d2006c234415a
SEQUENCE:0
LAST-MODIFIED:20080822T114633Z
SUMMARY:7 partoprenintoj prelegos pri la IFEF-kongreso en Pollando
LOCATION:kulturo-domo\, Dortheavej 61\, 2400 Kopenhaga NV
PRIORITY:3
TRANSP:0
END:VEVENT
END:VCALENDAR
