BEGIN:VCALENDAR
PRODID:-//AT Content Types//AT Event//EN
VERSION:1.0
BEGIN:VEVENT
DTSTART:20090907T193000Z
DTEND:20090907T210000Z
DCREATED:20090903T180457Z
UID:ATEvent-8a07ab33f28945b52674a91dbf263e82
SEQUENCE:0
LAST-MODIFIED:20090903T180457Z
SUMMARY:Vizito en Madrido
LOCATION:Dortheavej 61\, 2-a etaĝo
PRIORITY:3
TRANSP:0
END:VEVENT
END:VCALENDAR
