BEGIN:VCALENDAR
PRODID:-//AT Content Types//AT Event//EN
VERSION:1.0
BEGIN:VEVENT
DTSTART:20080130T183000Z
DTEND:20080130T203000Z
DCREATED:20071229T210711Z
UID:ATEvent-647dd16c3cf05cbade9d3bbb74f3b69f
SEQUENCE:0
LAST-MODIFIED:20071229T210747Z
SUMMARY:Viva gazeto en Malmö
DESCRIPTION:Klubanoj kontribuos al la programo diversmaniere.\n\nC'iuj
  estas bonvenaj!
LOCATION:Kronetorpsgatan 94 Malmö
PRIORITY:3
TRANSP:0
END:VEVENT
END:VCALENDAR
