BEGIN:VCALENDAR
PRODID:-//AT Content Types//AT Event//EN
VERSION:1.0
BEGIN:VEVENT
DTSTART:20100111T193000Z
DTEND:20100111T210000Z
DCREATED:20100108T175959Z
UID:ATEvent-19a77e036cbe0412c48e43200691158d
SEQUENCE:0
LAST-MODIFIED:20100108T223717Z
SUMMARY:Vi giver eksempler på noget typisk dansk
LOCATION:Tomsgårdsvej 35\, 2400 Kph NV
PRIORITY:3
TRANSP:0
END:VEVENT
END:VCALENDAR
