BEGIN:VCALENDAR
PRODID:-//AT Content Types//AT Event//EN
VERSION:2.0
METHOD:PUBLISH
BEGIN:VEVENT
DTSTAMP:20260423T072914Z
CREATED:20091022T164119Z
UID:ATEvent-c4a6f0c28ab073335db812c8cc50e15e
LAST-MODIFIED:20091027T115345Z
SUMMARY:Verdensmarchen
DTSTART:20091031T150000Z
DTEND:20091031T170000Z
DESCRIPTION:Verdensmarchen for fred og ikkevold - besøger os i Danmar
 k
LOCATION:Christiansborg ved hesten
CATEGORIES:Internacia Aranĝo
CLASS:PUBLIC
END:VEVENT
END:VCALENDAR
