BEGIN:VCALENDAR
PRODID:-//AT Content Types//AT Event//EN
VERSION:1.0
BEGIN:VEVENT
DTSTART:20091012T193000Z
DTEND:20091012T210000Z
DCREATED:20091010T052535Z
UID:ATEvent-625b83ee438feadf295149d262260065
SEQUENCE:0
LAST-MODIFIED:20091010T054844Z
SUMMARY:Tradukado pro la UK en Kph 2011
LOCATION:Tomsgårdsvej 35\, Kph NV
PRIORITY:3
TRANSP:0
END:VEVENT
END:VCALENDAR
