BEGIN:VCALENDAR
PRODID:-//AT Content Types//AT Event//EN
VERSION:2.0
METHOD:PUBLISH
BEGIN:VEVENT
DTSTAMP:20260423T013736Z
CREATED:20091104T120434Z
UID:ATEvent-81d8ea8d001e4a5c3c3af4603f125342
LAST-MODIFIED:20091104T120434Z
SUMMARY:Tradukado de teksto por la UK
DTSTART:20091109T193000Z
DTEND:20091109T210000Z
LOCATION:Tomsgårdsvej 35\, 2400 Kph NV
CATEGORIES:KEK arangxo.
CLASS:PUBLIC
END:VEVENT
END:VCALENDAR
