BEGIN:VCALENDAR
PRODID:-//AT Content Types//AT Event//EN
VERSION:2.0
METHOD:PUBLISH
BEGIN:VEVENT
DTSTAMP:20260423T013311Z
CREATED:20120102T173051Z
UID:ATEvent-3855040ab58dbbd6b7feb4bf04727f9f
LAST-MODIFIED:20120102T173450Z
SUMMARY:Sveda Kongreso de Esperanto
DTSTART:20120518T073000Z
DTEND:20120520T120000Z
DESCRIPTION:Partoprenu la svedan kongreson de Esperanto!\n\n\nLoko\: L
 a Popola Domo\, Södergatan 65\, Helsingborg\nTempo\: (18-)19-20 majo 
 2012\n\n\nProgramo\n\nDum vendredo okazos tuttaga ekskurso per aŭtobu
 so al la konata terlango Kullaberg kaj la eksa reĝa ĝardeno Sofiero.
  Vespere\: Kunmanĝado sur ŝipo inter Svedio kaj Danio. Sabate estos 
 prelegoj pri la nova lernobjekto en la svedaj gimnazioj\: ”La Homa L
 ingvo”\, diversaj jarkunvenoj kaj vespera programo kun muziko. Diman
 ĉe estos prelegoj interalie pri la prilaborata retejo ’esperanto-in
 fo.org’ kaj sveda-esperanta diservo en la apuda preĝejo.\n\n\nKosto
 j kaj aliĝo\n\nLa kongreskotizo estos SEK 850 por membroj de SEF\, po
 r ne-membroj SEK 100 pli\, por gejunuloj ĝis 20 jarojn aĝaj SEK 100 
 malpli. Ĝi inkluzivas la tutan programon dum sabato kaj dimanĉo\, an
 taŭ- kaj posttagmezan kafon\, tagmanĝon kaj vespermanĝon dum sabato
 \, kaj antaŭtagmezan kafon kaj tagmanĝon dum dimanĉo\, sed ne la ek
 skursojn.  \n\n\nLa kosto de la busekskurso estos SEK 450 kun ĉiĉero
 nado\, tagmanĝo kaj posttagmeza kafo. Dum la vespera eksurso vi mem p
 agos kion vi volas manĝi kaj trinki en la restoracio surŝipe.\n\n\nA
 liĝu aŭ/kaj petu pliajn informojn ĉe sefkongr@esperanto.se aŭ tele
 fone ĉe Ann-Louise Åkerlund 0736-170123 aŭ Dan Palm 0701-709460. Pa
 perpoŝta adreso\: Ann-Louise Åkerlund\, Ättekullagatan 16\, SE-253 
 61 Helsingborg\, Svedio.\n\n\nPagu al la sveda pg-konto 59 18 80-0 (He
 lsingborgs Esperantoförening) aŭ surloke\, post interkonsento ĉe al
 iĝo\, en svedaj kronoj. Ĉe aliĝo\, ne forgesu skribi vian nomon kaj
  adreson\, ĉu vi volas partopreni ekskurson (kiun?) ĉu vi volas pagi
  surloke kaj ĉu vi estas vegetarano aŭ havas iun alergion.\n\n\nBonv
 enon!\n\n\nSVEDA ESPERANTO-FEDERACIO
LOCATION:Helsingborg
CONTACT:Ann-Louise Åkerlund\, +46 (0)736 17 01 23\, al_akerlund@yahoo.se
CLASS:PUBLIC
END:VEVENT
END:VCALENDAR
