BEGIN:VCALENDAR
PRODID:-//AT Content Types//AT Event//EN
VERSION:2.0
METHOD:PUBLISH
BEGIN:VEVENT
DTSTAMP:20260422T235430Z
CREATED:20080325T210349Z
UID:ATEvent-c88e7df8619de1d111e21b232bf9c331
LAST-MODIFIED:20080422T043729Z
SUMMARY:SEA-renkontig'o - bonvenon!
DTSTART:20080426T110000Z
DTEND:20080426T150000Z
DESCRIPTION:venonta SEA kunveno okazas en la klubo de KEM (Klubo Esper
 antista de Malmö).\nGrava temo krom la kutima tagordo estas nia parto
 preno en la Europa Socia Forumo en Malmö 17-21 de septembro kaj event
 uala distanckurso kunlabore kun Kvarnby popolaltlernejo.\nC'iuj aktivu
 loj estas bonvenaj!
LOCATION:Kronetorpsgatan 94\, Malmö
CONTACT:kim\, +4526878700\, kim@ikso.net
CLASS:PUBLIC
END:VEVENT
END:VCALENDAR
