BEGIN:VCALENDAR
PRODID:-//AT Content Types//AT Event//EN
VERSION:2.0
METHOD:PUBLISH
BEGIN:VEVENT
DTSTAMP:20260423T013633Z
CREATED:20091119T215115Z
UID:ATEvent-06d37e9a4eaa7ec1d1de420f596886f0
LAST-MODIFIED:20091119T215115Z
SUMMARY:Studgrupo\, F & F
DTSTART:20091123T193000Z
DTEND:20091123T210000Z
LOCATION:Tomsgårdsvej 35\, Kph NV
CATEGORIES:KEK arangxo.
CLASS:PUBLIC
END:VEVENT
END:VCALENDAR
