BEGIN:VCALENDAR
PRODID:-//AT Content Types//AT Event//EN
VERSION:2.0
METHOD:PUBLISH
BEGIN:VEVENT
DTSTAMP:20260423T013104Z
CREATED:20080516T064035Z
UID:ATEvent-eb070150a25d2d9f9fb96e7e6abb6d22
LAST-MODIFIED:20080516T073340Z
SUMMARY:Studgrupo cxe KEK
DTSTART:20080519T193000Z
DTEND:20080519T210000Z
DESCRIPTION:programo - 'faktoj kaj fantazioj'
LOCATION:KEK. Kulturdomo\, Dortheasvej 61\, 2400 Kopenhago NV
CONTACT:Betty Chatterjee\, +45 44 48  47 26/ +45 28 18  07 60\, chatterjeebetty@hotmail.com
CLASS:PUBLIC
END:VEVENT
END:VCALENDAR
