BEGIN:VCALENDAR
PRODID:-//AT Content Types//AT Event//EN
VERSION:1.0
BEGIN:VEVENT
DTSTART:20081027T193000Z
DTEND:20081027T210000Z
DCREATED:20081025T113619Z
UID:ATEvent-3361e7a8f77ade2fd0e4a8425a7ab5e5
SEQUENCE:0
LAST-MODIFIED:20081025T113619Z
SUMMARY:Studgrupo ĉe KEK
DESCRIPTION:Ni legos du artikolojn de Stefan Maul\, kiujn ni elĉerpis
  de Monato\:\nMilitado sen Bataliloj kaj Genteknologio - Defio aŭ dev
 io de politiko.\nBent Wiinberg estos nia gvidanto.
LOCATION:kulturo-domo\, Dortheavej 61\, 2400 Kopenhaga NV
PRIORITY:3
TRANSP:0
END:VEVENT
END:VCALENDAR
