BEGIN:VCALENDAR
PRODID:-//AT Content Types//AT Event//EN
VERSION:1.0
BEGIN:VEVENT
DTSTART:20090615T190000Z
DTEND:20090615T210000Z
DCREATED:20090614T065159Z
UID:ATEvent-55eb28cd467f482787bfbe11529b1897
SEQUENCE:0
LAST-MODIFIED:20090614T065200Z
SUMMARY:Studgrupo ĉe KEK
LOCATION:Tomsgårdsvej 35\, 2400 Kph. NV
PRIORITY:3
TRANSP:0
END:VEVENT
END:VCALENDAR
