BEGIN:VCALENDAR
PRODID:-//AT Content Types//AT Event//EN
VERSION:2.0
METHOD:PUBLISH
BEGIN:VEVENT
DTSTAMP:20260423T013018Z
CREATED:20090328T202023Z
UID:ATEvent-5e84e67c7c072cbb2f206ad0eb2251a3
LAST-MODIFIED:20090328T202023Z
SUMMARY:Studgrupo ĉe KEK
DTSTART:20090330T193000Z
DTEND:20090330T210000Z
DESCRIPTION:La studgrupo legas artikolojn de Claude Piron
LOCATION:Tomsgårdsvej 35\, Kbh NV
CATEGORIES:KEK arangxo.
CLASS:PUBLIC
END:VEVENT
END:VCALENDAR
