BEGIN:VCALENDAR
PRODID:-//AT Content Types//AT Event//EN
VERSION:1.0
BEGIN:VEVENT
DTSTART:20100531T193000Z
DTEND:20100531T210000Z
DCREATED:20100527T194204Z
UID:ATEvent-639dac7cd013c38db62893658e00eed4
SEQUENCE:0
LAST-MODIFIED:20100527T194204Z
SUMMARY:Studgrupo
DESCRIPTION:La 31-an de majo je la 19.30-a la studgrupo legos la novel
 eton ‘Kelkaj vortoj de nia subtenanto’ paĝoj 60 - 61. La gvidanto
  estos Betty Chatterjee.
LOCATION:Tomsgårdsvej 35\, 2400 Kph NV
PRIORITY:3
TRANSP:0
END:VEVENT
END:VCALENDAR
