BEGIN:VCALENDAR
PRODID:-//AT Content Types//AT Event//EN
VERSION:2.0
METHOD:PUBLISH
BEGIN:VEVENT
DTSTAMP:20260423T012721Z
CREATED:20100417T204138Z
UID:ATEvent-ab3cdce15161a2634ebb8eebd60728f0
LAST-MODIFIED:20100417T210211Z
SUMMARY:Studgrupo
DTSTART:20100419T193000Z
DTEND:20100419T210000Z
LOCATION:Tomsgårdsvej 35\, 2400 Kph NV
CATEGORIES:KEK arangxo.
CLASS:PUBLIC
END:VEVENT
END:VCALENDAR
