BEGIN:VCALENDAR
PRODID:-//AT Content Types//AT Event//EN
VERSION:1.0
BEGIN:VEVENT
DTSTART:20091026T193000Z
DTEND:20091026T210000Z
DCREATED:20091022T061025Z
UID:ATEvent-b652155963dfbc09fab33a33caa4f44d
SEQUENCE:0
LAST-MODIFIED:20091022T161143Z
SUMMARY:Studgrupa vespero
LOCATION:Tomsgårdsvej 35\, Kph NV
PRIORITY:3
TRANSP:0
END:VEVENT
END:VCALENDAR
