BEGIN:VCALENDAR
PRODID:-//AT Content Types//AT Event//EN
VERSION:1.0
BEGIN:VEVENT
DTSTART:20090928T193000Z
DTEND:20090928T210000Z
DCREATED:20090926T090829Z
UID:ATEvent-a3607c7e4b928b7ad91e849689f72e7e
SEQUENCE:0
LAST-MODIFIED:20090926T090829Z
SUMMARY:Studgrupo
LOCATION:Tomsgårdsvej 35\, 1a etaĝo
PRIORITY:3
TRANSP:0
END:VEVENT
END:VCALENDAR
