BEGIN:VCALENDAR
PRODID:-//AT Content Types//AT Event//EN
VERSION:1.0
BEGIN:VEVENT
DTSTART:20090831T193000Z
DTEND:20090831T210000Z
DCREATED:20090830T115702Z
UID:ATEvent-ceaefd02360d63d382f01aff1c472da3
SEQUENCE:0
LAST-MODIFIED:20090830T115703Z
SUMMARY:Studgrupo
LOCATION:Dortheavej 61\, 2-a etaĝo
PRIORITY:3
TRANSP:0
END:VEVENT
END:VCALENDAR
