BEGIN:VCALENDAR
PRODID:-//AT Content Types//AT Event//EN
VERSION:1.0
BEGIN:VEVENT
DTSTART:20100125T193000Z
DTEND:20100125T210000Z
DCREATED:20100122T201801Z
UID:ATEvent-db70dc32da7878dacb0697a3815051c3
SEQUENCE:0
LAST-MODIFIED:20100122T201801Z
SUMMARY:Studgrupa vespero laŭ F & F
LOCATION:Tomsgårdsvej 35\, 2400 Kph NV
PRIORITY:3
TRANSP:0
END:VEVENT
END:VCALENDAR
