BEGIN:VCALENDAR
PRODID:-//AT Content Types//AT Event//EN
VERSION:1.0
BEGIN:VEVENT
DTSTART:20090622T190000Z
DTEND:20090622T213000Z
DCREATED:20090620T200020Z
UID:ATEvent-951deb7691b0aeefecbd0015377a99c9
SEQUENCE:0
LAST-MODIFIED:20090620T200513Z
SUMMARY:Somerfesto
LOCATION:Tomsgårdsvej 35\, 2400 Kph. NV
PRIORITY:3
TRANSP:0
END:VEVENT
END:VCALENDAR
