BEGIN:VCALENDAR
PRODID:-//AT Content Types//AT Event//EN
VERSION:1.0
BEGIN:VEVENT
DTSTART:20100816T193000Z
DTEND:20100816T210000Z
DCREATED:20100814T172320Z
UID:ATEvent-8d32d25a22a80cbddd29ccfea61cf17e
SEQUENCE:0
LAST-MODIFIED:20100814T172320Z
SUMMARY:Someraj travivaĵoj
LOCATION:Tomsgårdsvej 35\, 2400 Kph NV
PRIORITY:3
TRANSP:0
END:VEVENT
END:VCALENDAR
