BEGIN:VCALENDAR
PRODID:-//AT Content Types//AT Event//EN
VERSION:1.0
BEGIN:VEVENT
DTSTART:20091017T120000Z
DTEND:20091017T150000Z
DCREATED:20091011T055810Z
UID:ATEvent-e5fa0289736ff01beb58847887552a5e
SEQUENCE:0
LAST-MODIFIED:20091014T062445Z
SUMMARY:SEA-kunveno. Klubo Malmö festos
DESCRIPTION:La kutima SEA-kunveno (2 fojojn jare) kaj samtaga festo.
LOCATION:"Kvarnby"/Klubo Malmö
PRIORITY:3
TRANSP:0
END:VEVENT
END:VCALENDAR
