BEGIN:VCALENDAR
PRODID:-//AT Content Types//AT Event//EN
VERSION:1.0
BEGIN:VEVENT
DTSTART:20100320T120000Z
DTEND:20100320T160000Z
DCREATED:20100301T153748Z
UID:ATEvent-04c2a3ca04decb42d4346ed1f9385da9
SEQUENCE:0
LAST-MODIFIED:20100301T153749Z
SUMMARY:SEA-kunveno en Helsingborg 2010-03-20
LOCATION:Tyringegatan 1\, Helsingborg
PRIORITY:3
TRANSP:0
END:VEVENT
END:VCALENDAR
