BEGIN:VCALENDAR
PRODID:-//AT Content Types//AT Event//EN
VERSION:2.0
METHOD:PUBLISH
BEGIN:VEVENT
DTSTAMP:20260423T013618Z
CREATED:20071117T063328Z
UID:ATEvent-6ef4a5ac22ef1a6894f44acded52ba84
LAST-MODIFIED:20071117T063328Z
SUMMARY:Raymond Schwartz - satira poeto
DTSTART:20071207T193000Z
DTEND:20071207T203000Z
DESCRIPTION:Prelego pri la franca bandirektoro Raymond Schwartz\, poet
 o kaj verkisto.
LOCATION:Danasvej 30 B\, Kopenhago
CLASS:PUBLIC
END:VEVENT
END:VCALENDAR
