BEGIN:VCALENDAR
PRODID:-//AT Content Types//AT Event//EN
VERSION:1.0
BEGIN:VEVENT
DTSTART:20080412T160000Z
DTEND:20080412T200000Z
DCREATED:20080211T195911Z
UID:ATEvent-8b6978005305f41f2b4b9b3874929c32
SEQUENCE:0
LAST-MODIFIED:20080219T154349Z
SUMMARY:Printempa festo en Malmö
DESCRIPTION:Jytte Sunekaer\, Kopenhago\, rakontos pri UEA-kongreso en 
 Jokohamo
LOCATION:Kronetorpsgatan 94\, Malmö
PRIORITY:3
TRANSP:0
END:VEVENT
END:VCALENDAR
