BEGIN:VCALENDAR
PRODID:-//AT Content Types//AT Event//EN
VERSION:1.0
BEGIN:VEVENT
DTSTART:20091102T193000Z
DTEND:20091102T210000Z
DCREATED:20091101T103436Z
UID:ATEvent-1489c7b939a96f8836d6a73fe61b2675
SEQUENCE:0
LAST-MODIFIED:20091101T103436Z
SUMMARY:Pri la 95a UK en Havano
LOCATION:Tomsgårdsvej 35\, Kph NV
PRIORITY:3
TRANSP:0
END:VEVENT
END:VCALENDAR
