BEGIN:VCALENDAR
PRODID:-//AT Content Types//AT Event//EN
VERSION:2.0
METHOD:PUBLISH
BEGIN:VEVENT
DTSTAMP:20260423T013318Z
CREATED:20071017T162832Z
UID:ATEvent-aa3643435958e70662ca6c3c7edf0745
LAST-MODIFIED:20071018T153833Z
SUMMARY:Prelego\: Vojaĝo per karavan-aŭto
DTSTART:20071022T193000Z
DTEND:20071022T210000Z
DESCRIPTION:Ann-Louise Åkerlund prelegos  pri la temo 'Vojagxo per ka
 ravan-auxto'. Bonvenon!
LOCATION:KEK/DEFA Kulturdomo\, Dortheasvej 61\, 2400 Kopenhago NV
CLASS:PUBLIC
END:VEVENT
END:VCALENDAR
