BEGIN:VCALENDAR
PRODID:-//AT Content Types//AT Event//EN
VERSION:1.0
BEGIN:VEVENT
DTSTART:20090427T193000Z
DTEND:20090427T213000Z
DCREATED:20090424T125818Z
UID:ATEvent-efe105a8ee1b7aa7afdebe58e786219f
SEQUENCE:0
LAST-MODIFIED:20090424T130202Z
SUMMARY:Prelego pri vikipedio
LOCATION:Tomsgårdsvej 35\, Kbh NV
PRIORITY:3
TRANSP:0
END:VEVENT
END:VCALENDAR
