BEGIN:VCALENDAR
PRODID:-//AT Content Types//AT Event//EN
VERSION:1.0
BEGIN:VEVENT
DTSTART:20080317T193000Z
DTEND:20080317T210000Z
DCREATED:20080315T162938Z
UID:ATEvent-d84cb248eed52f7269dc7dcb89e2e5eb
SEQUENCE:0
LAST-MODIFIED:20080315T162938Z
SUMMARY:Prelego Cxe KEK Okaze de la DEFA Jubileo.
DESCRIPTION:Okaze de la 60-jarigxo de DEFA prelegas Henning Olsen pri 
 la temo\:\n'DEFA 60 jaraj krokize tra la jaroj'.
LOCATION:KEK Kulturdomo\, Dortheasvej 61\, 2400 Kopenhago NV
PRIORITY:3
TRANSP:0
END:VEVENT
END:VCALENDAR
