BEGIN:VCALENDAR
PRODID:-//AT Content Types//AT Event//EN
VERSION:1.0
BEGIN:VEVENT
DTSTART:20081025T110000Z
DTEND:20081025T160000Z
DCREATED:20081008T171151Z
UID:ATEvent-f7d2d59f5238fd67c3df012dce099235
SEQUENCE:0
LAST-MODIFIED:20081024T065822Z
SUMMARY:Plankunsido de SEA ne okazos!!
DESCRIPTION:Pro nesufic'a partopreno de klubaj reprezentantoj ni decid
 is nuligi la kunsidon en Helsingborg. Ni provos anstataue fari la deci
 dojn helpe de interreto.\nAnn-Louise kaj Sten
LOCATION:Helsingborg\, Brevduvevägen 4
PRIORITY:3
TRANSP:0
END:VEVENT
END:VCALENDAR
