BEGIN:VCALENDAR
PRODID:-//AT Content Types//AT Event//EN
VERSION:2.0
METHOD:PUBLISH
BEGIN:VEVENT
DTSTAMP:20260422T222151Z
CREATED:20091114T160307Z
UID:ATEvent-f76b25c314e13170d81d45ae75412305
LAST-MODIFIED:20091115T190252Z
SUMMARY:Konversacia kurso
DTSTART:20091205T140000Z
DTEND:20091206T150000Z
LOCATION:Tomsgårdsvej 35\, Kph NV
CATEGORIES:Kurso
CLASS:PUBLIC
END:VEVENT
END:VCALENDAR
