BEGIN:VCALENDAR
PRODID:-//AT Content Types//AT Event//EN
VERSION:2.0
METHOD:PUBLISH
BEGIN:VEVENT
DTSTAMP:20260423T042424Z
CREATED:20091022T164119Z
UID:ATEvent-1e2290b076942d567122f632fb85f726
LAST-MODIFIED:20091027T115345Z
SUMMARY:Monda marŝo
DTSTART:20091031T150000Z
DTEND:20091031T170000Z
DESCRIPTION:monda marŝo por paco kaj neperforto\n- vizitos nin en Dan
 io
LOCATION:Christiansborg ĉe la ĉevalo
CATEGORIES:Internacia Aranĝo
CLASS:PUBLIC
END:VEVENT
END:VCALENDAR
